BEGIN:VCALENDAR
VERSION:2.0
PRODID:-//eventon.com NONSGML v1.0//EN
CALSCALE:GREGORIAN
METHOD:PUBLISH
BEGIN:VEVENT
UID:69e5e7273b583
DTSTAMP:20260420T084319Z
DTSTART:20250218T173000Z
DTEND:20250218T203000Z
LOCATION:Tierra de Ibiza Carrer del Metge Riera Ferrer\,  nº8\,  07800 Eivissa\,  Illes Balears
SUMMARY:IDÒ: Taller de cocina ibicenca y cena ¡COMPLETO!
DESCRIPTION:El Club Diario de Ibiza organiza el 18 de febrero a las 18.30 h
 oras un taller de cocina ibicenca dentro del program IDÒ. Quienes asistan 
 aprenderán a preparar Coca de cebolla y tomates Frita de polp Fideua de se
 pia y gambones Greixonera y luego podrán cenar sus elaboraciones acompaña
 das de[..]\nhttps://club.diariodeibiza.es/ver-evento/ido-taller-cocina-ibic
 enca-cena/
URL:https://club.diariodeibiza.es/ver-evento/ido-taller-cocina-ibicenca-cena/
END:VEVENT
END:VCALENDAR