BEGIN:VCALENDAR
VERSION:2.0
PRODID:-//eventon.com NONSGML v1.0//EN
CALSCALE:GREGORIAN
METHOD:PUBLISH
BEGIN:VEVENT
UID:69ec189f0b3aa
DTSTAMP:20260425T012759Z
DTSTART:20200214T070000Z
DTEND:20200214T080000Z
LOCATION:
SUMMARY:COCINERAS EN IBIZA
DESCRIPTION:Presentación del libro &#8216;Cocineras en Ibiza&#8217; escrit
 o por la periodista y redactora de Diario de Ibiza Marta Torres Molina y co
 n fotografías de Toni Escobar Cardona.&nbsp; Jueves 13 de febrero\,  a las
  20 horas\,  Club Diario de Ibiza. El libro cuenta con una edición en cast
 ellano y otra en catalán.[..]\nhttps://club.diariodeibiza.es/ver-evento/li
 bro-cocineras-ibiza/
URL:https://club.diariodeibiza.es/ver-evento/libro-cocineras-ibiza/
END:VEVENT
END:VCALENDAR