BEGIN:VCALENDAR
VERSION:2.0
PRODID:-//eventon.com NONSGML v1.0//EN
CALSCALE:GREGORIAN
METHOD:PUBLISH
BEGIN:VEVENT
UID:69e9144c40752
DTSTAMP:20260422T183244Z
DTSTART:20200305T213000Z
DTEND:20200305T230000Z
LOCATION:
SUMMARY:Taller: Prevención violencia de género
DESCRIPTION:Taller para adolescentes impartido por Médicos del Mundo. ‘ 
 Stop violencia: prevención violencia de género’. Esta actividad se enma
 rca en la IV edición de la Semana Cultural de la Mujer que organiza el Clu
 b Diario de Ibiza\nhttps://club.diariodeibiza.es/ver-evento/taller-prevenci
 on-violencia-genero/
URL:https://club.diariodeibiza.es/ver-evento/taller-prevencion-violencia-genero/
END:VEVENT
END:VCALENDAR