BEGIN:VCALENDAR
VERSION:2.0
PRODID:-//eventon.com NONSGML v1.0//EN
CALSCALE:GREGORIAN
METHOD:PUBLISH
BEGIN:VEVENT
UID:69eb29aa13fb2
DTSTAMP:20260424T082826Z
DTSTART:20220928T170000Z
DTEND:20220928T183000Z
LOCATION:
SUMMARY:Som pagès. ¿Es posible vivir de la agricultura en Eivissa?
DESCRIPTION:La jornada Som pagès ¿Es posible vivir de la agricultura en E
 ivissa? se celebra el miércoles\,  28 de septiembre a las 19 horas en el C
 lub Diario de Ibiza. La jornada comenzará con la ponencia: Radiografía de
 l sector agrícola en Eivissa a cargo de Josep Lluís Joan\,  técnico de 
 Promoción de[..]\nhttps://club.diariodeibiza.es/ver-evento/som-pages-es-po
 sible-vivir-agricultura-eivissa/
URL:https://club.diariodeibiza.es/ver-evento/som-pages-es-posible-vivir-agricultura-eivissa/
END:VEVENT
END:VCALENDAR