BEGIN:VCALENDAR
VERSION:2.0
PRODID:-//eventon.com NONSGML v1.0//EN
CALSCALE:GREGORIAN
METHOD:PUBLISH
BEGIN:VEVENT
UID:69e5265e542f6
DTSTAMP:20260419T190046Z
DTSTART:19700101T110000Z
DTEND:19700101T110000Z
LOCATION:
SUMMARY:Los secretos de la luna
DESCRIPTION:Conferencia. Los secretos de la luna.&nbsp;Nuestro satélite\, 
  un mundo de sorpresas a nuestro alcance Ponente: JORDI PEREYRA del blog Ci
 encia de Sofá Organizan:&nbsp;Agrupaciò Astronòmica d’Eivissa y Ayunta
 ment d’Eivissa\nhttps://club.diariodeibiza.es/ver-evento/secretos-luna-nu
 estro-satelite-mundo-sorpresas-nuestro-alcance/
URL:https://club.diariodeibiza.es/ver-evento/secretos-luna-nuestro-satelite-mundo-sorpresas-nuestro-alcance/
END:VEVENT
END:VCALENDAR