BEGIN:VCALENDAR
VERSION:2.0
PRODID:-//eventon.com NONSGML v1.0//EN
CALSCALE:GREGORIAN
METHOD:PUBLISH
BEGIN:VEVENT
UID:69ea4cc1d719d
DTSTAMP:20260423T164553Z
DTSTART:20230112T150000Z
DTEND:20230112T163000Z
LOCATION:
SUMMARY:Contigo ya somos más de 2000 suscriptores
DESCRIPTION:La web de Diario de Ibiza ya supera los 2.000 suscriptores: te 
 damos las gracias por tu apoyo y por tu confianza\,  pues es lo que da sent
 ido al trabajo de todo nuestro equipo. Te invitamos a nuestra sede para ens
 eñarte cómo es el día a día en Es Diari:[..]\nhttps://club.diariodeibiz
 a.es/ver-evento/contigo-ya-somos-mas-2000-suscriptores/var/ri-1.l-L1
URL:https://club.diariodeibiza.es/ver-evento/contigo-ya-somos-mas-2000-suscriptores/var/ri-1.l-L1
END:VEVENT
END:VCALENDAR