BEGIN:VCALENDAR
VERSION:2.0
PRODID:-//eventon.com NONSGML v1.0//EN
CALSCALE:GREGORIAN
METHOD:PUBLISH
BEGIN:VEVENT
UID:69eb40acdd067
DTSTAMP:20260424T100636Z
DTSTART:20230223T170000Z
DTEND:20230223T190000Z
LOCATION:
SUMMARY:VI Jornada Caminos hacia la sostenibilidad en Ibiza y Formentera
DESCRIPTION:La sexta edición de la Jornada Caminos hacia la sostenibilidad
  en Ibiza y Formentera tiene como tema principal cómo ser sostenible en el
  día a día. En la jornada se hablará de las soluciones que existen para 
 ser más sostenibles en empresas\,  especialmente del sector hotelero\,  en
  los hogares\,  en[..]\nhttps://club.diariodeibiza.es/ver-evento/vi-jornada
 -caminos-hacia-sostenibilidad-ibiza-formentera/
URL:https://club.diariodeibiza.es/ver-evento/vi-jornada-caminos-hacia-sostenibilidad-ibiza-formentera/
END:VEVENT
END:VCALENDAR