BEGIN:VCALENDAR
VERSION:2.0
PRODID:-//eventon.com NONSGML v1.0//EN
CALSCALE:GREGORIAN
METHOD:PUBLISH
BEGIN:VEVENT
UID:69e7397f29c33
DTSTAMP:20260421T084655Z
DTSTART:20240530T180000Z
DTEND:20240530T192000Z
LOCATION:
SUMMARY:Representación de la obra de teatro 'Dones de la Sal'
DESCRIPTION:La obra de teatro &#8216;Dones de la Sal&#8217; de compañía d
 e teatro Perdo Cañestro se epresentará en el Club Diario de Ibiza el juev
 es 30 de mayo a las 20 horas.  La obra está basada en el libro de Esperan
 ça Marí del mismo nombre donde narra la infancia\,  juventud\,  madurez[.
 .]\nhttps://club.diariodeibiza.es/ver-evento/representacion-obra-teatro-don
 es-sal/
URL:https://club.diariodeibiza.es/ver-evento/representacion-obra-teatro-dones-sal/
END:VEVENT
END:VCALENDAR