BEGIN:VCALENDAR
VERSION:2.0
PRODID:-//eventon.com NONSGML v1.0//EN
CALSCALE:GREGORIAN
METHOD:PUBLISH
BEGIN:VEVENT
UID:69e9de3bbe87c
DTSTAMP:20260423T085419Z
DTSTART:20240531T180000Z
DTEND:20240531T203000Z
LOCATION:
SUMMARY:I Jornada de producto local. El valor de lo nuestro
DESCRIPTION:El Club Diario de Ibiza organiza la I Jornada de producto local
 . El valor de lo nuestro\,  el viernes 31 de mayo por la tarde. Se trata de
  pasar una tarde diferente\,  entretenida y divertida donde quienes vayan a
 prendan a cocinar algunos platos de gastronomía local con sus hijos\,  deg
 usten[..]\nhttps://club.diariodeibiza.es/ver-evento/i-jornada-producto-loca
 l-valor-nuestro/
URL:https://club.diariodeibiza.es/ver-evento/i-jornada-producto-local-valor-nuestro/
END:VEVENT
END:VCALENDAR