BEGIN:VCALENDAR
VERSION:2.0
PRODID:-//eventon.com NONSGML v1.0//EN
CALSCALE:GREGORIAN
METHOD:PUBLISH
BEGIN:VEVENT
UID:69e9d0df41411
DTSTAMP:20260423T075719Z
DTSTART:20241029T180000Z
DTEND:20241029T193000Z
LOCATION:
SUMMARY:Som pagès. En busca de soluciones para el campo pitiuso
DESCRIPTION:El Club Diario de Ibiza organiza el martes 29 de octubre a las 
 19 horas las jornada &#8216;Som pagès.En busca de soluciones para el campo
  pitiuso&#8217; en la que se abordarán temas como las ayudas a la agricult
 ura\,  el problema de la sequía\,  el relevo generacional o el futuro de[.
 .]\nhttps://club.diariodeibiza.es/ver-evento/som-pages-busca-soluciones-par
 a-campo-pitiuso/
URL:https://club.diariodeibiza.es/ver-evento/som-pages-busca-soluciones-para-campo-pitiuso/
END:VEVENT
END:VCALENDAR